BEGIN:VCALENDAR
VERSION:2.0
PRODID:-//wp-events-plugin.com//7.2.3.1//EN
TZID:Australia/Sydney
X-WR-TIMEZONE:Australia/Sydney
BEGIN:VEVENT
UID:2898@unswoc.org
DTSTART;TZID=Australia/Sydney:20210605T140000
DTEND;TZID=Australia/Sydney:20210605T180000
DTSTAMP:20210602T132929Z
URL:https://unswoc.org/wordpress/events/abseiling-101/
SUMMARY:Abseiling 101
DESCRIPTION:Come join me (Ava) on a learn to abseil trip at Clovelly this w
 eekend!\n\nAbseiling is an essential skill for outdoors activities such as
  canyoning\, climbing and caving. This workshop will be catered towards be
 ginners!\n\nWe will be playing around with a few different beginner abseil
 ing devices and giving them a go!\n\nThis workshop will start at 2pm sharp
  at Clovelly Cliffs on Saturday.\n\nEquipment:\n\n– Bring any of your pe
 rsonal equipment\n\n– ATC/figure 8\, harness\, helmet\, rope and safety 
 will provided\n\n– It's best to wear sneakers and comfy clothing (I reco
 mmend long pants)\n\n– Make sure to bring water\, a Jumper (ocean wind c
 an get nippy) and a head torch (in case it gets dark before we finish)!\n\
 nPlease write what equipment you'll be bringing in the comments (i.e. helm
 et\, harness etc) AND your relevant experience or wants/wishes for the wor
 kshop (It’s ok if you have 0 experience I just want to know what to expe
 ct)\n\nIf you have any questions feel free to shoot me (Ava Del Tufo) a me
 ssage on facebook or come and find me at the ledge on Thursday.\n\n*please
  note I am just volunteer not a professional guide\n\nThank you Mira for t
 he event template!
CATEGORIES:Abseiling,Training
END:VEVENT
BEGIN:VTIMEZONE
TZID:Australia/Sydney
X-LIC-LOCATION:Australia/Sydney
BEGIN:STANDARD
DTSTART:20210404T020000
TZOFFSETFROM:+1100
TZOFFSETTO:+1000
TZNAME:AEST
END:STANDARD
END:VTIMEZONE
END:VCALENDAR