BEGIN:VCALENDAR
VERSION:2.0
PRODID:-//wp-events-plugin.com//7.2.3.1//EN
TZID:Australia/Sydney
X-WR-TIMEZONE:Australia/Sydney
BEGIN:VEVENT
UID:3007@unswoc.org
DTSTART;TZID=Australia/Sydney;VALUE=DATE:20220508
DTEND;TZID=Australia/Sydney;VALUE=DATE:20220509
DTSTAMP:20220507T111745Z
URL:https://unswoc.org/wordpress/events/8-may-rope-skills-day-intermediate
 -to-advanced/
SUMMARY:8 May - Rope skills day\, Intermediate to Advanced
DESCRIPTION:Hi UNSWOCers\,\n\n&nbsp\;\n\nThere will be an intermediate/adva
 nced rope skills day held this weekend and geared towards climbing and can
 yoning.\n\nWe’ll start off going over vertical mobility (prusiking) and 
 move on to anchor building\, releasable systems\, hauling systems\, advanc
 ed rescues\, ziplines\, etc. It will depend on the group how far we progre
 ss in the day and at what speed.\n\nIt is expected that you are already ab
 le to pass a knot while prusiking - this is not a beginner trip.\n\n&nbsp\
 ;\n\nWhen: Sunday 9:30 am\n\nWhere: Yellow Rock lookout https://maps.go
 ogle.com?q=8M92+HC%20Yellow%20Rock%20lookout\,%20Yellow%20Rock%20NSW%20277
 7&amp\;ftid=0x6b1286c090a0d4f9:0x197dcffd8dd4041c&amp\;hl=en-AU&amp\;gl=au
 &amp\;entry=gps&amp\;lucs=a1\n\n&nbsp\;\n\nBring your own Lunch\, lots of 
 Water\, Outdoor gear\, Harness\, Helmet\, Prusiks\, and any other climbing
 /canyoning equipment you can get your hands on.\n\nIn the comments please 
 let me know your level of experience and send me a message if you have any
  questions. It's always a fun day out on the cliff.\n\n&nbsp\;\n\nJuri
CATEGORIES:Training
END:VEVENT
BEGIN:VTIMEZONE
TZID:Australia/Sydney
X-LIC-LOCATION:Australia/Sydney
BEGIN:STANDARD
DTSTART:20220403T020000
TZOFFSETFROM:+1100
TZOFFSETTO:+1000
TZNAME:AEST
END:STANDARD
END:VTIMEZONE
END:VCALENDAR