BEGIN:VCALENDAR
VERSION:2.0
PRODID:-//wp-events-plugin.com//7.2.3.1//EN
TZID:Australia/Sydney
X-WR-TIMEZONE:Australia/Sydney
BEGIN:VEVENT
UID:2123@unswoc.org
DTSTART:20170401T220000Z
DTEND:20170402T050000Z
DTSTAMP:20170328T082609Z
URL:https://unswoc.org/wordpress/events/7643/
SUMMARY:Dam Criffs: Beginner Climbing Sun(turnt)day
DESCRIPTION:IF YOU HAVE A CAR PLEASE MESSAGE US!!!!!\n\n-------------------
 -\n\nEamonn\, Bayu and I (Vicky) will be running a beginners climbing trip
  on the saturday of boree log.\n\nNo climbing experience? No worries. We w
 ill head to Dam Cliffs\, a friendly place to meet real rock for the first 
 time. We will set up top ropes and the crag will look like an outdoor gym.
  It's also got a pretty sick deep water solo wall (where you climb above d
 eep water without ropes/harnesses) so bring a towel if you want to have a 
 go at that.\n\nAll the special climbing gear will be provided by the club\
 , just make sure you have the following:\n\n	comfy clothes (tight/stretchy
  clothes is a good go)\n	walking shoes\n	lunch\n	sunscreen/sunnies\n	towel
  (optional)\n\nIf you do have any gear of your own please bring it! This i
 ncludes:\n\n	Climbing shoes\n	Harness\n	ATC (or other belay device)\n	Safe
 ty sling\n	Locking biners\n	Rope\n\nAlso - if you are an experienced climb
 er\, maybe consider another trip and leave this trip for beginners (:\n\nW
 e will need to drive there\, so please let me know on facebook (Vicky Chen
 ) if you have a car! very important.\n\nNote: you must be signed up to Bor
 ee Log to join this trip!
CATEGORIES:Boree Log,Outdoor Climbing
END:VEVENT
END:VCALENDAR