BEGIN:VCALENDAR
VERSION:2.0
PRODID:-//wp-events-plugin.com//7.2.3.1//EN
TZID:Australia/Sydney
X-WR-TIMEZONE:Australia/Sydney
BEGIN:VEVENT
UID:3569@unswoc.org
DTSTART;TZID=Australia/Sydney:20250330T100000
DTEND;TZID=Australia/Sydney:20250330T160000
DTSTAMP:20250316T113727Z
URL:https://unswoc.org/wordpress/events/6hr-rogaine-penrith-30th-march-202
 5/
SUMMARY:6hr Rogaine @ Penrith\, 30th March 2025
DESCRIPTION:Hello!\n\nThe second rogaine of the year is coming up in 2 week
 s\, and it would be great to see some UNSWOC faces there 😁\n\n\nWhat is
  a rogaine?\nEssentially a treasure hunt in the bush! You’ll get to put 
 your navigation skills to the test\, using a map and compass to find marke
 d locations to score points. You’ve only got 6 hours though\, so don’t
  be back late!\nIf you’ve never tried rogaining before\, this is a great
  first event! It’s relatively short and you aren’t too far from civili
 zation\, but combines the traditional rogaine environment (the bush) with 
 some urban areas and farms!\n&nbsp\;\n\n 	When? 10am to 4pm\, Sunday 30th 
 March\n 	Where? Jordan Springs Community Centre near Penrith\, 1 hour west
  of UNSW (public transport accessible!)\n 	How much? $32 for a student con
 cession\, else $45.\n 	Signups close? Sunday 23rd March\n\nAmazing – ho
 w do I sign up? This event is not run by UNSWOC\, we just attend :D\nVisit
  the official website here - https://nswrogaining.org/2025-metrogaine/.\n\
 nNote: Teams of 2-4 are required (no disadvantage if you are only 2 people
 ). If you are keen to attend the event but don't have a partner\, try comm
 enting under [this] Facebook post and see if you can find someone!\n\nTime
  and location information taken from the newsletter here - eNewsletter 198
  - Saturday 15th March 2025. Event template borrowed from Brendan Conneely
  and Daniel Gilbert :)\n\n\n
ATTACH;FMTTYPE=image/jpeg:https://unswoc.org/wordpress/wp-content/uploads/
 2021/03/64873260_906934876320841_688455275836866560_n.jpg
CATEGORIES:Rogaining
LOCATION:https://nswrogaining.org/2025-metrogaine/
END:VEVENT
BEGIN:VTIMEZONE
TZID:Australia/Sydney
X-LIC-LOCATION:Australia/Sydney
BEGIN:DAYLIGHT
DTSTART:20241006T030000
TZOFFSETFROM:+1000
TZOFFSETTO:+1100
TZNAME:AEDT
END:DAYLIGHT
END:VTIMEZONE
END:VCALENDAR