BEGIN:VCALENDAR
VERSION:2.0
PRODID:-//wp-events-plugin.com//7.2.3.1//EN
TZID:Australia/Sydney
X-WR-TIMEZONE:Australia/Sydney
BEGIN:VEVENT
UID:3588@unswoc.org
DTSTART;TZID=Australia/Sydney;VALUE=DATE:20250615
DTEND;TZID=Australia/Sydney;VALUE=DATE:20250616
DTSTAMP:20250615T055519Z
URL:https://unswoc.org/wordpress/events/6hr-rogaine-belanglo-15th-june/
SUMMARY:6hr Rogaine @ Belanglo\, 15th June
DESCRIPTION:Edit 05 June: Unfortunately due to a lack of available transpor
 t to the event\, the club will not be able to help organise teams.\n\nIf y
 ou have your own car and have friends that enjoy bushwalking\, I recommend
  you look into booking directly with the event and forming your own team -
  https://nswrogaining.org/2025-paddy-pallin/\n\nSignups for this event end
 s tomorrow night.\n\nIf you are keen to do more rogaines though\, there's 
 one in Springwood in August (take the train up)\, and in November there's 
 one in Engadine in Southern Sydney! Keep an eye out on the UNSWOC facebook
  page for relevant announcements - I'll see you there 🙂\n\n\n\nHello!\n
 \nThe first bush rogaine of the year is coming up in 3 weeks\, and it woul
 d be great to see some UNSWOC faces there 😁\n\n\nWhat is a rogaine?\nEs
 sentially a treasure hunt in the bush! You’ll get to put your navigation
  skills to the test\, using a map and compass to find marked locations to 
 score points. You’ve only got 6 hours though\, so don’t be back late!\
 n\nWe’ll be using our navigation skills to explore the stunning Belanglo
  State Forest. There will be plenty of route options for all ages\, naviga
 tional abilities and fitness levels. You can expect to meander with friend
 s and family along hiking loops of your design\, or challenge yourself to 
 stride out big loops with steep climbs\, accumulating big points. This is 
 your chance to go loopy! Whatever you choose you will revel in the sandsto
 ne country with grand canyon views and beautiful flora and fauna.\n\n\n\nH
 ead back to the HH when you are ready\, enjoy a catered meal\, and reflect
  on the day with all the other participants before heading back home with 
 lots of new memories.\n\n\n\n\n 	When? 9am to 3pm\, Sunday 15th June. Camp
 ing is available the night before.\n 	Where? Belanglo State Forest\, ~2 ho
 urs drive from Sydney.\n 	How much? $45 for a student concession\, else $6
 5.\n 	Signups close? Friday 6th June (so that we can organise teams)\n\nA
 mazing – how do I sign up?\n\nIf you would like to take part but don't h
 ave a team\, sign up to this trip below 👇🏼👇🏼. We can organise 
 teams together 🥳\n\nOtherwise\, you can sign up directly here if you al
 ready have a team (this event is not run by UNSWOC\, we just attend).\n\n&
 nbsp\;\n\n\n** You do not need to be an UNSWOC member to join this event.\
 n\n
ATTACH;FMTTYPE=image/jpeg:https://unswoc.org/wordpress/wp-content/uploads/
 2021/03/64873260_906934876320841_688455275836866560_n.jpg
CATEGORIES:Bushwalking,Hectic Hiking,Orienteering,Rogaining,Trail Running
LOCATION:https://nswrogaining.org/2025-paddy-pallin/
END:VEVENT
BEGIN:VTIMEZONE
TZID:Australia/Sydney
X-LIC-LOCATION:Australia/Sydney
BEGIN:STANDARD
DTSTART:20250406T020000
TZOFFSETFROM:+1100
TZOFFSETTO:+1000
TZNAME:AEST
END:STANDARD
END:VTIMEZONE
END:VCALENDAR