BEGIN:VCALENDAR
VERSION:2.0
PRODID:-//wp-events-plugin.com//7.2.3.1//EN
TZID:Australia/Sydney
X-WR-TIMEZONE:Australia/Sydney
BEGIN:VEVENT
UID:2072@unswoc.org
DTSTART:20161015T210000Z
DTEND:20161016T040000Z
DTSTAMP:20161010T105223Z
URL:https://unswoc.org/wordpress/events/6928/
SUMMARY:Fortress Fighters
DESCRIPTION:Hey\,\n\nme and Brendan are running a canyoning trip on Sunday 
 the 16th. It's a beginners trip so as long as you can swim and you're not 
 comically unfit then you're welcome to come.\n\nWe'll be doing Fortress ca
 nyon near Leura\, meeting in the Woolies carpark at 8am\, this corresponds
  to leaving uni at around 6am\n\nI'll make a Facebook group so we can hash
  out transport and organisational stuff.\n\nThings to bring: (most of whic
 h can be borrowed from the club on Wednesday)\n\n- Harness\n- Belay or abs
 eil device\n- Wetsuit\n- Helmet\n- Headtorch\n- Safety sling\n- Lunch + sn
 acks\n- Water (at least 2L)\n\nhttp://ozultimate.com/canyoning/track_notes
 /fortress.htm\n\n-  Dion
ATTACH;FMTTYPE=image/jpeg:https://unswoc.org/wordpress/wp-content/uploads/
 2016/03/11174739_1096079437101332_3849870510237513844_o.jpg
CATEGORIES:Canyoning
END:VEVENT
END:VCALENDAR