BEGIN:VCALENDAR
VERSION:2.0
PRODID:-//wp-events-plugin.com//7.2.3.1//EN
TZID:Australia/Sydney
X-WR-TIMEZONE:Australia/Sydney
BEGIN:VEVENT
UID:3660@unswoc.org
DTSTART;TZID=Australia/Sydney;VALUE=DATE:20251004
DTEND;TZID=Australia/Sydney;VALUE=DATE:20251005
DTSTAMP:20250915T033320Z
URL:https://unswoc.org/wordpress/events/4-10-25-multi-pitch-saturday-inter
 mediate-sport-climbing/
SUMMARY:4/10/25 Multi-Pitch SATURDAY INTERMEDIATE Sport Climbing
DESCRIPTION:\nHey everyone!\n\nMyself\, (Gabriel)\, Rafferty (Prez Raff)\, 
 will be running an INTERMEDIATE Multi-pitch climbing trip SATURDAY in two 
 weeks (4/10/25).\n\nWe will be climbing 'The West Face of the Mirror Ball'
 . A grade 19\, 4 pitch climb\, with stunning views. (All on Sport\, no tra
 d)\n\n&nbsp\;\n\nIMPORTANT NOTE\n\n 	We will be running a ledge training n
 ight for this trip the Thursday before the trip (2/10/25). it is important
  that participants attend this.\n 	As an intermediate trip\, we expect tha
 t you are familiar with the following skills.\n\n 	Lead Climbing and Lead 
 Belaying\n 	Basic Abseiling Skills\n 	Sport Climbing ability\, comfortably
  around grade 18\n\n\n\n&nbsp\;\n\nJust as a side note\, these are only to
  ensure the safe running of this trip. If you need help learning or gainin
 g more experience and or skills with any of these\, please do not hesitate
  to ask one of the friendly execs\, and come along to the ledge training n
 ight.\n\nPlease also indicate if you have a car / need a lift :)\n\nThere 
 are a few climbs that we can try\, but this trip will be attempting longer
  multi-pitch climbs. Expect more than 150m of climbing. \n\nDue to the na
 ture of this trip\, we will only be able to except a small number of parti
 cipants. We will be going off the 'first in best dressed rule'\, but this 
 is subject to change. If you are worried or have any questions\, again\, j
 ust ask.\n\n&nbsp\;\n\nWhat to bring\n\n 	Harness\n 	Atc + locking beiner\
 n 	Helmet\n 	Sling + locking beiner\n 	Prusic\n 	Climbing shoes (COMFORTAB
 LE)\n 	Atleast 2L of water\n 	A small backpack\n 	Spray jacket and Jumper 
 (It can get very windy)\n\nAll of this gear\, (except clothes and water) c
 an be borrowed from the gear cupboard should you need.\n\nSneaky question 
 (MUST ANSWER) - If you could have shoes for feet\, what shoes would you ch
 oose and why? Remember that they can never come off...\n\n&nbsp\;\n\nThe t
 imings and location are subject to wether and change. Please make sure we 
 can contact you easily on facebook.\n\nWell done for reading this far!\n\n
 - Gabriel and Raff.\n\n&nbsp\;\n\n&nbsp\;\n\n\n\n\n\n\n\n
CATEGORIES:Outdoor Climbing
LOCATION:https://www.google.com/maps/place/33%C2%B034'41.4%22S+150%C2%B020'
 31.3%22E/@-33.5781555,150.3394451,691m/data=!3m2!1e3!4b1!4m4!3m3!8m2!3d-33
 .57816!4d150.34202?entry=ttu&g_ep=EgoyMDI1MDkxMC4wIKXMDSoASAFQAw%3D%3D
END:VEVENT
BEGIN:VTIMEZONE
TZID:Australia/Sydney
X-LIC-LOCATION:Australia/Sydney
BEGIN:STANDARD
DTSTART:20250406T020000
TZOFFSETFROM:+1100
TZOFFSETTO:+1000
TZNAME:AEST
END:STANDARD
END:VTIMEZONE
END:VCALENDAR