BEGIN:VCALENDAR
VERSION:2.0
PRODID:-//wp-events-plugin.com//7.2.3.1//EN
TZID:Australia/Sydney
X-WR-TIMEZONE:Australia/Sydney
BEGIN:VEVENT
UID:3762@unswoc.org
DTSTART;TZID=Australia/Sydney;VALUE=DATE:20260322
DTEND;TZID=Australia/Sydney;VALUE=DATE:20260323
DTSTAMP:20260319T081047Z
URL:https://unswoc.org/wordpress/events/20295/
SUMMARY:Sunday BL - South Bowens Canyoning [Beginner]
DESCRIPTION:Join Georgie and myself (Dan) for a fun\, big day out of canyon
 ing on Sunday at Boree Log! Make the most of being up at Mt Wilson by expl
 oring somewhere that you can only really access with technical rope skills
  – I honestly think the canyons are the most beautiful part of the Blue 
 Mountains\, and this is your chance to explore a top-tier one! I also once
  saw a bandicoot in this canyon. But first:\n\nYou need to be approved for
  the main Boree Log event to attend these trips. Please sign up for only O
 NE trip per day. If you get rejected you can then sign up for another trip
 \, this just makes it easier for volunteer trip leaders. Please be aware t
 hat as the weather is unpredictable\, trip leaders may need to alter trips
  accordingly.\n\nThis will be a full day – think 8 hours start to finish
  – so you must have a high enough level fitness\, and some experience ab
 seiling already (you don’t need to have done a canyon before). Expect mu
 ltiple abseils\, hiking on steep and slippery slopes\, and cold swims. Hav
 e a look at the notes here: https://ozultimate.com/canyoning/track_notes/b
 owens_creek_south.htm\, and if you’re accepted\, it would be good to hav
 e a look through them prior to the day. When applying\, tell us if you hav
 e a car/how many spots (we will need to car shuffle back to Sydney)\, how 
 much abseiling/canyon experience you have\, and importantly\, if you could
  be a bird\, which bird would you be?\n\nIt’s critical that every person
  on this trip has the right gear:\n\n&nbsp\;\n\nGear available to borrow f
 rom the club (this will all be brought to Boree Log\, you don’t need to 
 hire beforehand). Please bring your own if you have:\n\n&nbsp\;\n\n 	Harne
 ss\n 	Helmet\n 	3x locking carabiners\n 	1x Figure 8 / Descender\n 	1x Saf
 ety sling\n 	Drybag\n 	Wetsuit\n 	Backpack that can fit ALL your gear and 
 that can get wet (30L+)\n\n&nbsp\;\n\nOther gear you must bring\n\n 	Enclo
 sed shoes with good grip\, suitable for water and bushwalking\n 	Thick soc
 ks – you don’t want freezing cold feet all day\n 	Boardshorts to wear 
 on top of wetsuit (compulsory to protect the club wetsuits)\n 	Thermals an
 d raincoat – important extra layers of warmth\, I'll be checking\n 	Opti
 onal: beanie and gloves (a beanie can be worn under your helmet for warmth
 \, and gloves for warmth and for abseiling).\n 	Swimmers for under wetsuit
 \n 	NO COTTON! (this includes socks\, shirts\, pants\, undies\, etc)\n 	A 
 set of clothes to wear for the hike in an out – standard hiking clothes 
 and hat\, preferably long sleeves and pants for sun/insect/snake protectio
 n\n 	Towel and clean clothes for the car ride home (you don't want to be w
 et in the car!)\n 	2L of water\n 	An easy lunch\n 	Lots of high energy sna
 cks to share\n 	Any personal medication (asthma puffer\, Epipen etc)\n 	He
 adtorch\n 	Emergency blanket – (can buy from Gear Cupboard for $5 or fro
 m chemists\, shops\, etc)If you don’t have everything listed\, for your 
 safety we won’t be able to take you on the trip.If you’ve read everyth
 ing and feel like you’d be a good fit\, apply now! Hope to see you at Bo
 ree Log 🙂\n
CATEGORIES:Boree Log,Canyoning
LOCATION:https://maps.app.goo.gl/TyzaUnDCiudfsdhs5
END:VEVENT
BEGIN:VTIMEZONE
TZID:Australia/Sydney
X-LIC-LOCATION:Australia/Sydney
BEGIN:DAYLIGHT
DTSTART:20251005T030000
TZOFFSETFROM:+1000
TZOFFSETTO:+1100
TZNAME:AEDT
END:DAYLIGHT
END:VTIMEZONE
END:VCALENDAR