BEGIN:VCALENDAR
VERSION:2.0
PRODID:-//wp-events-plugin.com//7.2.3.1//EN
TZID:Australia/Sydney
X-WR-TIMEZONE:Australia/Sydney
BEGIN:VEVENT
UID:3680@unswoc.org
DTSTART;TZID=Australia/Sydney;VALUE=DATE:20251102
DTEND;TZID=Australia/Sydney;VALUE=DATE:20251103
DTSTAMP:20251117T035924Z
URL:https://unswoc.org/wordpress/events/2025-social-rogaine-woronora-river
 /
SUMMARY:2025 Social Rogaine - Woronora River
DESCRIPTION:Hello!\n\nThe final rogaine of the year is coming up in a few w
 eeks\, and it would be great to see some UNSWOC faces there 😁\n\n\nWhat
  is a rogaine?\nEssentially a treasure hunt in the bush! You’ll get to p
 ut your navigation skills to the test\, using only a map and compass to fi
 nd marked locations to score points. You’ve only got 6 hours though\, so
  don’t be back late!\nIf you’ve never tried rogaining before\, this is
  a great first event! It’s relatively short and you aren’t too far fro
 m civilization\, but combines the traditional rogaine environment (the bus
 h) with some urban areas!\nMore details here: What is Rogaining?.\n&nbsp\;
 \n\n 	When? 10am to 4pm\, Sunday 2nd November\n 	Where? Anzac Oval\, Engad
 ine - 1 hour south of UNSW (can take the train down!)\n 	How much? $32 for
  a student concession\, else $45.\n 	Signups close? Thursday 16th October
  (so we can organise teams)\n\n&nbsp\;\n\nAmazing – how do I sign up?\n\
 n\nThe purpose of creating an UNSWOC event is to try and encourage as many
  UNSWOCer’s to get involved as possible! It means we can help club membe
 rs find a team and perhaps even have some friendly intra-club competition 
 😉\n\nSign up to this event if you’re keen and I’ll figure out the t
 eams from there. Once the teams have be sorted\, you’ll be responsible f
 or signing up to the official event.\n\n\nIn the comments\, please mentio
 n:\n\n 	If you have done a Rogaine before\n 	How competitive are you?\n 	H
 ow much distance you are planning on walking (20km is a healthy goal for y
 our first time)\n\n 	Note: Teams can be on the course for as long or as li
 ttle as they wish but must return by the 6 hour mark.\n\n\n 	Your bushwalk
 ing experience\n\n&nbsp\;\n\nIf you have any questions\, please email me a
 t webadmin [at] unswoc.org\n\n\n\n\n\nA well-appointed Hash House* awaits 
 you at Engadine’s spacious Anzac Oval where there will be something for 
 everyone. Whether you’d like a gentle introduction to the extensive bush
 land via long residential spurs\, or prefer to plunge right in\, there are
  a multitude of course planning options for your puzzle-hungry brain.\n\nS
 tep back in time and imagine a pre-European existence in the midst of long
  gentle valleys\, steep hillsides\, rarely travelled gullies\, and gravity
 -confirming creeks looking for the mysteriously named Woronora River. Navi
 gate the extensive track network\, remembering the flora and fauna are you
 r friends\, and finding your way around sandstone amongst eucalypts. Cocka
 toos\, Gymea lilies\, kookaburras\, grass-trees\, water dragons\, tree fer
 ns\, wallabies\, and koalas will all be possible to spot (in that order of
  likelihood).\n\n* The Hash House is the starting point for the Rogaine.
ATTACH;FMTTYPE=image/jpeg:https://unswoc.org/wordpress/wp-content/uploads/
 2025/02/20250215_121250.jpg
CATEGORIES:Bushwalking,Hectic Hiking,Orienteering,Rogaining
LOCATION:https://nswrogaining.org/event/2025-socialgaine/
END:VEVENT
BEGIN:VTIMEZONE
TZID:Australia/Sydney
X-LIC-LOCATION:Australia/Sydney
BEGIN:DAYLIGHT
DTSTART:20251005T030000
TZOFFSETFROM:+1000
TZOFFSETTO:+1100
TZNAME:AEDT
END:DAYLIGHT
END:VTIMEZONE
END:VCALENDAR