BEGIN:VCALENDAR
VERSION:2.0
PRODID:-//wp-events-plugin.com//7.2.3.1//EN
TZID:Australia/Sydney
X-WR-TIMEZONE:Australia/Sydney
BEGIN:VEVENT
UID:3699@unswoc.org
DTSTART;TZID=Australia/Sydney:20251026T110000
DTEND;TZID=Australia/Sydney:20251026T160000
DTSTAMP:20251026T002518Z
URL:https://unswoc.org/wordpress/events/2025-middle-harbour/
SUMMARY:Middle Harbour Hike\, Belrose - Beginner friendly
DESCRIPTION:Hellooooo!\n\nI'm (Sudarshan) running a nice little day hike (a
 bout 15km) along a stretch of the Middle Harbour Creek from Belrose to Ros
 eville. Should be quite pretty\, with some nice water views. This is a gre
 at way to get your dose of bushwalk\, while staying quite close to Sydney 
 😻\n\nNo experience necessary. All are welcome! The track is well marked
  most of the way and the pace shouldn’t be too demanding. We will start 
 and end at places with frequent buses to the City.\n\nRoute map and Track
  details.\n\nHope to see you then! Feel free to reach out to me at webadmi
 n [at] unswoc.org if you have any questions.\n\nWhat to bring:\n\n 	Sturdy
  shoes\, preferably waterproof!\n 	Small-medium sized backpack to hold you
 r belongings\n 	At least 2L of water **very important to have enough water
 !!**\n 	Lunch and snacks for the day\n 	A hat and sunscreen\n 	Any persona
 l medication you may need\n 	A raincoat if the weather demands!\n\nWhen an
 d Where:\n\n 	Sunday 26th October (this week)\n 	Meet at Glenrose Village 
 around 11am\n\n 	Buses every 20 mins from the City or Chatswood.\n\n\n 	Ex
 pect to finish around 4pm at Roseville Bridge\n\n 	Buses to the City or Ch
 atswood every 10 mins.\n\n\n\n&nbsp\;\n\nSo\, if you are keen for a hike\,
  please tell us your hiking experience so far\, and how many Roses 🌹 y
 ou think would fit inside Glenrose Shopping centre.\n\nPlease also ensure 
 you have linked your Facebook profile in the UNSWOC settings\, or in the c
 omment below. If I cannot add you to the Messenger Group Chat\, I will not
  be able to accept you.
ATTACH;FMTTYPE=image/jpeg:https://unswoc.org/wordpress/wp-content/uploads/
 2025/10/lyrebird-track.jpg
CATEGORIES:Bushwalking,Hectic Hiking
LOCATION:https://maps.app.goo.gl/hsAZVEoK43KQykLa6
END:VEVENT
BEGIN:VTIMEZONE
TZID:Australia/Sydney
X-LIC-LOCATION:Australia/Sydney
BEGIN:DAYLIGHT
DTSTART:20251005T030000
TZOFFSETFROM:+1000
TZOFFSETTO:+1100
TZNAME:AEDT
END:DAYLIGHT
END:VTIMEZONE
END:VCALENDAR