BEGIN:VCALENDAR
VERSION:2.0
PRODID:-//wp-events-plugin.com//7.2.3.1//EN
TZID:Australia/Sydney
X-WR-TIMEZONE:Australia/Sydney
BEGIN:VEVENT
UID:3412@unswoc.org
DTSTART;TZID=Australia/Sydney:20240416T174500
DTEND;TZID=Australia/Sydney:20240416T204500
DTSTAMP:20240416T083911Z
URL:https://unswoc.org/wordpress/events/2024-story-night-%f0%9f%93%96/
SUMMARY:2024 Story Night 📖
DESCRIPTION:Hey guys!\n\nWelcome to our annual story night\, where you get 
 to hear some epic tales from some of our club members. Have you ever been 
 to a film festival about the outdoors and gotten totally stoked to get out
  there and pursue some seriously cool adventures? Well\, this is the perfe
 ct event for you!\n\nWhat's especially cool is that some of these events w
 ere made possible in part by funding provided by the Club's Beanie Grant. 
 All the more reason to apply for a grant in our next round of applications
 .\n\nBring blankets\, pillows\, beanbags\, camping chairs\, sleeping bags\
 , your bedside lamp - whatever you need to get cozy to listen to our prese
 nters speak.\n\nSnacks will be provided! Please list any dietary restricti
 ons you may have in the comment section when you sign up.\n\nWhen: Tuesday
  16th of April (Week 10) 5:45pm - 9pm\n\nWhere: Colombo LG02 CATs Room\n\n
 Speakers:\n\nMountaineering in Kazakhstan - Sam Davis\n\n\n\nHastings Inne
 r Sanctum Canyon - Alfie Jones\n\n\n\nThe Pacific Crest Trail and Conqueri
 ng Fear - Glenn Southern\n\n\n\nTrekking in Nepal - Elliott Vercoe\n\n\n\n
 Climbing in South East Asia - Linna He and Angela Ha\n\n\n\nNew Zealand Wh
 itewater Canyoning - Daniel Gilbert\n\n\n\nKeen to see you all there! 🤠
CATEGORIES:Social Event
LOCATION:https://www.learningenvironments.unsw.edu.au/physical-spaces/colom
 bo-building/k-b16-lg02-colombo-lg02
END:VEVENT
BEGIN:VTIMEZONE
TZID:Australia/Sydney
X-LIC-LOCATION:Australia/Sydney
BEGIN:STANDARD
DTSTART:20240407T020000
TZOFFSETFROM:+1100
TZOFFSETTO:+1000
TZNAME:AEST
END:STANDARD
END:VTIMEZONE
END:VCALENDAR