BEGIN:VCALENDAR
VERSION:2.0
PRODID:-//wp-events-plugin.com//7.2.3.1//EN
TZID:Australia/Sydney
X-WR-TIMEZONE:Australia/Sydney
BEGIN:VEVENT
UID:3370@unswoc.org
DTSTART;TZID=Australia/Sydney:20240225T090000
DTEND;TZID=Australia/Sydney:20240225T130000
DTSTAMP:20240211T010441Z
URL:https://unswoc.org/wordpress/events/2024-newport-rogaine/
SUMMARY:2024 Newport Rogaine
DESCRIPTION:\n\n\n\n\nFirst rogaine of the year is coming up soon! Would be
  great to see some UNSWOC faces there!\nThis event can be done solo or as 
 a team. If you'd like to find some teammates\, please comment on this Face
 book post.\n\n\n\nWhere: Newport community centre\nWhen: 9am 25/2\nSignups
  close: 20/2\n\n\nSIGN UP HERE ------&gt\; https://nswrogaining.org/2024-m
 inigaine/\n\n\n\n\n\n\n\n\nWhat is a rogaine?\nEssentially a treasure hunt
  in the bush! You'll get to put your navigation skills to the test\, using
  a map and compass to find marked locations to score points. You've only g
 ot 3 hours though\, so don't be back late! This rogaine can be done solo o
 r as a team.\n\n\n\nIf you've never tried regaining before\, this is a gre
 at first event! It's relatively short and you aren't too far from civiliza
 tion\, but still get some awesome ocean views!\n\n\n\n\n\n[caption id="" a
 lign="alignnone" width="1184"] An example control point that you'll be sea
 rching for[/caption]\n\n\n\n\n\nSign ups are through the NSW rogaining web
 site\, UNSWOC does not run this event and just attends.\n\n\n\n\n\n
CATEGORIES:Hectic Hiking,Rogaining
LOCATION:https://maps.app.goo.gl/evAJpQJ71DUNoFCF7
END:VEVENT
BEGIN:VTIMEZONE
TZID:Australia/Sydney
X-LIC-LOCATION:Australia/Sydney
BEGIN:DAYLIGHT
DTSTART:20231001T030000
TZOFFSETFROM:+1000
TZOFFSETTO:+1100
TZNAME:AEDT
END:DAYLIGHT
END:VTIMEZONE
END:VCALENDAR