BEGIN:VCALENDAR
VERSION:2.0
PRODID:-//wp-events-plugin.com//7.2.3.1//EN
TZID:Australia/Sydney
X-WR-TIMEZONE:Australia/Sydney
BEGIN:VEVENT
UID:3405@unswoc.org
DTSTART;TZID=Australia/Sydney:20241102T093000
DTEND;TZID=Australia/Sydney:20241102T143000
DTSTAMP:20241101T054409Z
URL:https://unswoc.org/wordpress/events/2024-first-aid-simulation-day/
SUMMARY:POSTPONED - 2024 First Aid Simulation Day
DESCRIPTION:\n\nThis Saturday (2nd of November) Katie and I (Jayden) will b
 e running a First Aid Simulation Day for club members and trip leaders at 
 Centennial Park. The plan is to go ahead regardless of weather as we run t
 rips in all weather.\n\nWe are aiming to share\, retain and regain First A
 id and Situational Management skills. Super keen for those who have comple
 ted their Wilderness or Remote Area First Aid to come along\; even if you 
 don't have these qualifications\, you are welcome to come and learn with t
 he rest of us! (We will always have people on trips who have different ski
 llsets so it's useful to have similar situations here\, we also need actor
 s so you may have some fun and make our lives hard :))\n\nWe will try and 
 do a fair few simulations with gear we would usually take on trips\, the m
 ore realistic the better for this. To that end\, bring along your First Ai
 d Kits (We won't use them but its good to know what's there) and other gea
 r you would take on your primary sport (Rope\, Pack\, Hiking Poles\, etc).
  That way we will have stuff for all sports and can practise realistic res
 ponses. Please include in your comment what gear you will bring.\n\nWhat E
 LSE to bring:\n\n 	Bring OLD first aid supplies from home that might be ou
 t of date or going a bit bad so bolster our supply for the simulations.\n\
 n\n 	Bring Clothing that can get wrecked and dirty\, we will likely use to
 mato sauce as fake blood.\n 	Food and Water for you. Further details to be
  provided closer to the time.\n\nWe don't know all the ways people have be
 en or can be injured in all sports\, as such please comment a scenario you
  think we should run.\n\nIf your first aid qual is not on your profile (yo
 u should fix this) or is not a common one\, mention it in the comments.\n\
 nWe are very open to suggestions so please reach out to Katie or myself if
  you have any ideas. Anyone with more advanced training is highly encourag
 ed to contribute (REGARDLESS of first aid training or club membership stat
 us)\, I.E. Med student/Doctor/Nurse\, First Responder\, Defence\, Guide et
 c to help\, offer knowledge and experience in the lead up and on the day.
ATTACH;FMTTYPE=image/jpeg:https://unswoc.org/wordpress/wp-content/uploads/
 2023/05/Screenshot-2023-06-13-131727.png
CATEGORIES:Training
LOCATION:https://maps.app.goo.gl/5a2h8msnDXnweTYs7
END:VEVENT
BEGIN:VTIMEZONE
TZID:Australia/Sydney
X-LIC-LOCATION:Australia/Sydney
BEGIN:DAYLIGHT
DTSTART:20241006T030000
TZOFFSETFROM:+1000
TZOFFSETTO:+1100
TZNAME:AEDT
END:DAYLIGHT
END:VTIMEZONE
END:VCALENDAR