BEGIN:VCALENDAR
VERSION:2.0
PRODID:-//wp-events-plugin.com//7.2.3.1//EN
TZID:Australia/Sydney
X-WR-TIMEZONE:Australia/Sydney
BEGIN:VEVENT
UID:2245@unswoc.org
DTSTART:20180420T190000Z
DTEND:20180421T090000Z
DTSTAMP:20180417T071943Z
URL:https://unswoc.org/wordpress/events/2-5-canyons-price-1-kind-of-beginn
 er-canyon/
SUMMARY:2.5 canyons for the price of 1! (kind of) (beginner canyon)
DESCRIPTION:Hey keen beans!\n\nEwa and me are leading a trip on saturday th
 rough Geronimo AND horseshoe canyon (AND bits of the wollangambe). This is
  going to be a super awesome trip! Both Geronimo and horseshoe have nice c
 onstrictions and fun abseils - you'll abseil like a pro after this. :)\n\n
 Check out the pics!\n\n\n\n\n\nSick right?! More info and pics can be foun
 d here: http://ozultimate.com/canyoning/track_notes/geronimo.htm\n\nThis i
 s a whole day adventure so you need to be fit (there are 3 quite large hil
 ls to climb!) and able to swim as there are some long swims at the end of 
 the day in the Wollangambe! It's alright if you have not abseiled before\,
  we can show you the ropes. Please fill out the form when you sign up and 
 comment with your experience (if you don't have rope skills\, just comment
  what other outdoor activities you have done) and your favorite outdoors s
 nack (preferably also bring it to the canyon :D )!\n\nWhat you need:\n\n 	
 harness*\n 	helmet*\n 	safety + biner*\n 	atc + biner*\n 	backpack that ca
 n get wet(*)\n 	wetsuits*\n 	headtorch (if you dont have a head torch\, br
 ing at least some kind of torch - it gets dark early these days!)\n 	dryba
 g (this is important for spare clothes and your food! I strongly recommend
  to buy one\, e.g. at anaconda https://www.anacondastores.com/camping-hiki
 ng/packs-bags/dry-bags-storage/sea-to-summit-dry-sack/p/BP90028599001\, th
 ese come in handy on almost any outdoor trip)\n 	runners that may get tras
 hed\n 	thermals and woolen or synthetic socks (dont wear ANY cotton\, you 
 will be miserably cold!)\n 	spare set of thermals to carry in your drybag 
 (for emergencies)\n 	if you get cold easily bring a rain jacket to put ove
 r your wetsuit\n 	lunch and snacks!\n 	at least 2l of water\n 	dry clothes
  and shoes for the car ride back\n 	adventure spirit and heaps of good moo
 d!\n\n*you can get this from the club on gear night (check the fb page\, m
 ost likely wednesday night)\n\nWe will leave Sydney very early (6-7am!) an
 d we really need some drivers so please let me know if you have a car!\n\n
 Get keen and see ya there!\n\nCheers\,\n\nSteffi and Ewa
END:VEVENT
END:VCALENDAR