BEGIN:VCALENDAR
VERSION:2.0
PRODID:-//wp-events-plugin.com//7.2.3.1//EN
TZID:Australia/Sydney
X-WR-TIMEZONE:Australia/Sydney
BEGIN:VEVENT
UID:3472@unswoc.org
DTSTART;TZID=Australia/Sydney;VALUE=DATE:20240921
DTEND;TZID=Australia/Sydney;VALUE=DATE:20240922
DTSTAMP:20240914T095922Z
URL:https://unswoc.org/wordpress/events/17340/
SUMMARY:Lower north Bowens canyon Saturday 21/09
DESCRIPTION:Hey everyone\, hope you are keen to start the term! Come join J
 ayden and I this Saturday for a fun time exploring the best part of the bl
 ue mountains! The canyons!\n\n\n\nExpect a great day canyoning for around 
 8 hours with plenty of bushwalking\, rock scrambling\, cold swims\, water 
 jumps\, and abseiling.\n\nWe'll walk down to the canyon\, swim and abseil 
 through the cold water in wetsuits\, and then walk out with soggy wet bags
  on our backs.\n\nPlease make sure you bring ALL gear listed below!\n\n&nb
 sp\;\n\nGear available to borrow from the Gear Cupboard:\n\n 	Harness\n 	H
 elmet\n 	2x locking carabiners\n 	1x Figure 8 / Descender\n 	1x Safety sl
 ing\n 	Drybag\n 	Wetsuit (check that it fits!!)\n\n 	Emergency blanket –
  (can buy from Gear Cupboard for $5 or from chemists\, shops\, etc)\n\n&nb
 sp\;\n\nOther gear you MUST bring:\n\n 	Backpack that can fit ALL your ge
 ar and that can get wet (30L+)\n 	Clothing:\n\n 	Enclosed shoes with good 
 grip\, suitable for water and bushwalking\n 	Wool or neoprene socks\n 	Bo
 ardshorts to wear on top of wetsuit (compulsory to protect the club wetsu
 its)\n 	Thermals and raincoat\n 	Swimmers for under wetsuit\n 	NO COTTON!
  (this includes socks\, shirts\, pants\, etc)\n\n\n 	Food:\n\n 	2L of wat
 er\n 	Lunch\n 	Snacks to share!\n\n\n 	Other:\n\n 	Medication (asthma puff
 er\, Epipen etc)\n 	Headtorch + spare batteries\n 	dry clothes for the dr
 ive home\n\n\n\n&nbsp\;\n\nIn the comments let us know your abseiling/cany
 oning experience (none is ok!!)\, if you have a car and how many spots you
  have\, and your favourite river!\n\nGet keen
CATEGORIES:Canyoning
LOCATION:https://maps.app.goo.gl/xgV5zwBBrUnm76Fr9
END:VEVENT
BEGIN:VTIMEZONE
TZID:Australia/Sydney
X-LIC-LOCATION:Australia/Sydney
BEGIN:STANDARD
DTSTART:20240407T020000
TZOFFSETFROM:+1100
TZOFFSETTO:+1000
TZNAME:AEST
END:STANDARD
END:VTIMEZONE
END:VCALENDAR