BEGIN:VCALENDAR
VERSION:2.0
PRODID:-//wp-events-plugin.com//7.2.3.1//EN
TZID:Australia/Sydney
X-WR-TIMEZONE:Australia/Sydney
BEGIN:VEVENT
UID:3504@unswoc.org
DTSTART;TZID=Australia/Sydney:20241017T170000
DTEND;TZID=Australia/Sydney:20241017T183000
DTSTAMP:20241015T032524Z
URL:https://unswoc.org/wordpress/events/17-10-24-general-ropework-workshop
 -the-ledge/
SUMMARY:17/10/24 General Ropework Workshop @ The Ledge
DESCRIPTION:Hi all\,\n\nI will be running a General Ropework Workshop on th
 e (Thursday) 17th of October\, starting at 5pm at THE LEDGE.\n\nThe worksh
 op is open to anyone who'd like to improve their learning/ knowledge of ro
 pes and is the first step to the trip leader pathway in the respective can
 yoning/caving/climbing specializations.\n\nLearning items will consist of 
 items within this booklet (General-Rope-Sports-Manual-V2.pdf (unswoc.org))
 \n\n● General knots such as figure eights\, hitches\, stoppers\, alpine 
 butterfly\, etc\n● Rope management/ coiling and storage of ropes. I'll b
 e bringing in a 200m long set of ropes to play around with\, and to demons
 trate the importance of proper rope management.\n● Equipment care\, visu
 al and tactile assessment/ inspection of PPE\n● Outdoors safety\, commun
 ication techniques\, general risk assessment and what to be aware on durin
 g trips.\n\nExamples of rope management below (spot the good and bad!)\n\n
 \n\n\n\n&nbsp\;
ATTACH;FMTTYPE=image/jpeg:https://unswoc.org/wordpress/wp-content/uploads/
 2024/10/PXL_20240807_225314452-scaled.jpg
LOCATION:https://g.co/kgs/HmHV6oy
END:VEVENT
BEGIN:VTIMEZONE
TZID:Australia/Sydney
X-LIC-LOCATION:Australia/Sydney
BEGIN:DAYLIGHT
DTSTART:20241006T030000
TZOFFSETFROM:+1000
TZOFFSETTO:+1100
TZNAME:AEDT
END:DAYLIGHT
END:VTIMEZONE
END:VCALENDAR