BEGIN:VCALENDAR
VERSION:2.0
PRODID:-//wp-events-plugin.com//7.2.3.1//EN
TZID:Australia/Sydney
X-WR-TIMEZONE:Australia/Sydney
BEGIN:VEVENT
UID:3191@unswoc.org
DTSTART;TZID=Australia/Sydney:20230315T170000
DTEND;TZID=Australia/Sydney:20230315T180000
DTSTAMP:20230613T034414Z
URL:https://unswoc.org/wordpress/events/14068-2023-03-15/
SUMMARY:Gear Cupboard
DESCRIPTION:This term (Term 1 2023) the gear cupboard will try to be run on
  Thursdays before the ledge\n\nCome to hire some gear\, return equipment o
 r just say hi!\n\nRemember to bring CASH for your deposits \n\nThe locati
 on of the gear cupboard is here\, on the outside of Sam Cracknell Pavilli
 on. If you get lost or want more information\, just send me a message :)\n
 \n&nbsp\;\n\nPlease check out the UNSWOC Facebook page for a reminder or
  any slight changes in time each week. The club periodically does a stock 
 take and the most recent information is available here.\n\n&nbsp\;\n
ATTACH;FMTTYPE=image/jpeg:https://unswoc.org/wordpress/wp-content/uploads/
 2022/09/20190706_085041240_iOS-225x300-1.jpg
CATEGORIES:Social Event
END:VEVENT
BEGIN:VTIMEZONE
TZID:Australia/Sydney
X-LIC-LOCATION:Australia/Sydney
BEGIN:DAYLIGHT
DTSTART:20221002T030000
TZOFFSETFROM:+1000
TZOFFSETTO:+1100
TZNAME:AEDT
END:DAYLIGHT
END:VTIMEZONE
END:VCALENDAR