BEGIN:VCALENDAR
VERSION:2.0
PRODID:-//wp-events-plugin.com//7.2.3.1//EN
TZID:Australia/Sydney
X-WR-TIMEZONE:Australia/Sydney
BEGIN:VEVENT
UID:3054@unswoc.org
DTSTART;TZID=Australia/Sydney;VALUE=DATE:20220910
DTEND;TZID=Australia/Sydney;VALUE=DATE:20220912
DTSTAMP:20220906T103327Z
URL:https://unswoc.org/wordpress/events/14025/
SUMMARY:Canoe Creek and Pass #18 Wollemi NP
DESCRIPTION:\n\n\n\n\n\n\n\n\n\nCome along as we explore some remote countr
 y in the Wollemi NP on the eastern side of the Colo River.\nExpect the fir
 st day to be a decent track with a steep descent and a river crossing (typ
 ically waist deep) to the stunning Canoe Ck\, while the second day we asce
 nd the lesser trafficked pass #18 with excellent views over the Canoe Ck j
 unction. We will probably encounter heavy chest high scrub up on a bush ba
 sh back to the cars.\nThe total hike should be approximately 12-15km over 
 the two days with around 400m elevation change\, but expect slow walking w
 ith the thick scrub post fires.\n\nWhat To Bring:\n**Minimise the weight y
 ou bring\, strictly follow this list **\nTent - Sharing required (Or Tarp/
 Groundsheet)\nSleeping Bag with appropriate temp rating\nSleeping Mat\nHea
 dtorch\nSunscreen\nToothbrush\nToothpaste\nToilet paper - Not a whole roll
 \, only what you'll need\nFirst Aid Kit - Emergency blanket and other basi
 c medical supplies\n\nFuel and stove - Sharing required\nPot - To cook and
  eat out of\nSpork\nLighter/Matches\nWater Filtration - Hollowfibre filter
 s\, Purification tabs etc - Consider sharing\nWater Bottles - Lightweight 
 - 2-3 Litres\n\nPhone\nCharger and Cable (Or turn phone off/airplane to sa
 ve battery)\n\nRain Jacket\nUnderwear Socks\nBeanie\nThermals\nJumper\nHik
 ing/Running shoes\n\nBackpack - 40-60 Litre with waist belt\nDrybags/Pack 
 Liners or Rubbish Bags\nFood - 2 days worth\n\nYou should aim for a final 
 pack weight of less than 15kg\, including food and water.\n\nClothes to we
 ar on the day:\nLightweight\, quick drying long pants (You'll need them wi
 th the scrub)\nShort/Long sleeve shirt\nHat\nHiking/Running shoes\n\nIn th
 e comments let me know what multi-day hikes you've done\, whether you have
  a car (4WD or 2WD)\, and why you want to come to the Wollemi.\n\n\n\n\n\n
 \n\n
CATEGORIES:Bushwalking,Hectic Hiking
END:VEVENT
BEGIN:VTIMEZONE
TZID:Australia/Sydney
X-LIC-LOCATION:Australia/Sydney
BEGIN:STANDARD
DTSTART:20220403T020000
TZOFFSETFROM:+1100
TZOFFSETTO:+1000
TZNAME:AEST
END:STANDARD
END:VTIMEZONE
END:VCALENDAR