BEGIN:VCALENDAR
VERSION:2.0
PRODID:-//wp-events-plugin.com//7.2.3.1//EN
TZID:Australia/Sydney
X-WR-TIMEZONE:Australia/Sydney
BEGIN:VEVENT
UID:3025@unswoc.org
DTSTART;TZID=Australia/Sydney;VALUE=DATE:20220611
DTEND;TZID=Australia/Sydney;VALUE=DATE:20220612
DTSTAMP:20220607T130229Z
URL:https://unswoc.org/wordpress/events/13840/
SUMMARY:Beginner/Intermediate Sport Climbing Outdoors.... Somewhere...
DESCRIPTION:Hello Folks!\n\nOn Saturday 11th June\, Jenny\, Francois\, and 
 I (Sammy) will be running a beginner/intermediate sport climbing trip to a
 n *unconfirmed location* with some cliffs. We will decide later in the wee
 k exactly where\, depending on wind speed/temperatures.\n\n!!! Please read
  all text before signing up !!!\n\n....note....we probably won't go here..
 .the picture is just cool...\n\n&nbsp\;\n\nThe plan is to be at the *uncon
 firmed location* at a sensible *unconfirmed time* on Saturday morning and 
 climb all day. We will set up top ropes for everyone to climb. No climbing
  experience is needed. If you´re a competent lead climber and lead belaye
 r\, but just want more outdoor experience\, you´re also welcomed. You wil
 l need:\n\n 	Personal climbing gear: A harness\, helmet\, locking carabine
 r\, belay device/ATC\, climbing shoes\n\n 	all are available at the gear s
 hed with a deposit\, no rental fee\n 	if you have your own gear please bri
 ng it\n\n\n 	For clothing: Wear clothes you are comfortable climbing in (i
 .e. sporty) as well as extra layers (i.e. jumpers\, coats\, gloves\, hats)
  as it will be cold!\n 	For sustenance: 2 L of water\, lunch\, and snacks.
 ... I also recommend a flask of tea &lt\;3\n 	Other gear: Head torch\, med
 icines if you need them (asthma puffer\, etc).\n\nLeave a comment to let u
 s know your experience\, where you will be driving from if you have a car\
 , and please tell us what your favourite warm layer to wear is.
CATEGORIES:Climbing,Outdoor Climbing
END:VEVENT
BEGIN:VTIMEZONE
TZID:Australia/Sydney
X-LIC-LOCATION:Australia/Sydney
BEGIN:STANDARD
DTSTART:20220403T020000
TZOFFSETFROM:+1100
TZOFFSETTO:+1000
TZNAME:AEST
END:STANDARD
END:VTIMEZONE
END:VCALENDAR