BEGIN:VCALENDAR
VERSION:2.0
PRODID:-//wp-events-plugin.com//7.2.3.1//EN
TZID:Australia/Sydney
X-WR-TIMEZONE:Australia/Sydney
BEGIN:VEVENT
UID:3547@unswoc.org
DTSTART;TZID=Australia/Sydney:20250306T163000
DTEND;TZID=Australia/Sydney:20250306T180000
DTSTAMP:20250302T131157Z
URL:https://unswoc.org/wordpress/events/06-03-25-general-ropework-workshop
 -the-ledge/
SUMMARY:06/03/25 General Ropework Workshop @ The Ledge
DESCRIPTION:Hi all\,\n\nI will be running a General Ropework Workshop on th
 e 6th of March (Thursday)\, starting at 4.30pm at THE LEDGE.\n\nThe worksh
 op is open to anyone who'd like to improve their learning/ knowledge of ro
 pes and is the first step to the trip leader pathway in the respective can
 yoning/caving/climbing specializations.\n\nLearning items will consist of 
 items within this booklet (General Rope Sports Manual – UNSW Outdoors Cl
 ub)\n\n● General knots such as figure eights\, hitches\, stoppers\, alpi
 ne butterfly\, etc.\n● Rope management/ coiling and storage of ropes (ph
 oto example below)\n● Equipment care\, visual and tactile assessment/ in
 spection of PPE\n● Outdoors safety\, communication techniques\, general 
 risk assessment and what to be aware on during trips.\n\nIf we have time\,
  I'll also bring 2 ropes access kits to demonstrate some ascending/ descen
 ding.\n\n\n\n&nbsp\;
ATTACH;FMTTYPE=image/jpeg:https://unswoc.org/wordpress/wp-content/uploads/
 2024/10/PXL_20240807_225314452-scaled.jpg
LOCATION:https://g.co/kgs/HmHV6oy
END:VEVENT
BEGIN:VTIMEZONE
TZID:Australia/Sydney
X-LIC-LOCATION:Australia/Sydney
BEGIN:DAYLIGHT
DTSTART:20241006T030000
TZOFFSETFROM:+1000
TZOFFSETTO:+1100
TZNAME:AEDT
END:DAYLIGHT
END:VTIMEZONE
END:VCALENDAR