BEGIN:VCALENDAR
VERSION:2.0
PRODID:-//wp-events-plugin.com//7.2.3.1//EN
TZID:Australia/Sydney
X-WR-TIMEZONE:Australia/Sydney
BEGIN:VEVENT
UID:3631@unswoc.org
DTSTART;TZID=Australia/Sydney:20250830T060000
DTEND;TZID=Australia/Sydney:20250831T150000
DTSTAMP:20250809T115428Z
URL:https://unswoc.org/wordpress/events/%f0%9f%8f%94%ef%b8%8f-snowy-mounta
 ins-snowshoe-shuffle/
SUMMARY:🏔️ Snowy Mountains Snowshoe Shuffle
DESCRIPTION:\n\nSnowshoe and overnight snow camping trip in the Snowy Mount
 ains 🏔️.\n\nWe will hike from Guthega Power Station along Schlink Roa
 d (or the Pipeline track) to Schlink Hilton Hut where we will camp. Sunday
  will return back to Guthega Power Station via the same route. The route c
 an be viewed on Gaia.\n\nNote that we will be camping in tents ⛺️ next
  to the hut 🛖. The hut for dining and enjoying a nice warm fire + schna
 pps only.\n\nThe trip is beginner friendly but the prerequisites for apply
 ing include:\n\n 	Ability to travel on Friday afternoon (it's a 6 hour dri
 ve!)\n 	Overnight hiking experience\n 	Comfortable hiking approx. 15km per
  day\n 	Either have or are able to source the gear detailed on the gear li
 st  (group gear excluded)\n 	You can bring snacks to share 😋\n\nNote t
 he club has limited amounts of snowshoes and 4 season tents. You may be re
 quired to either bring your own or hire gear.\n\nWhen you apply please con
 firm in the form that you are able to meet the prerequisites.
CATEGORIES:Backcountry,Snow
LOCATION:https://maps.app.goo.gl/KGjKWJkv8wzUDmwF8
END:VEVENT
BEGIN:VTIMEZONE
TZID:Australia/Sydney
X-LIC-LOCATION:Australia/Sydney
BEGIN:STANDARD
DTSTART:20250406T020000
TZOFFSETFROM:+1100
TZOFFSETTO:+1000
TZNAME:AEST
END:STANDARD
END:VTIMEZONE
END:VCALENDAR